BEGIN:VCALENDAR
VERSION:2.0
PRODID:-//Crooked Creek Baptist Church - ECPv6.15.20//NONSGML v1.0//EN
CALSCALE:GREGORIAN
METHOD:PUBLISH
X-WR-CALNAME:Crooked Creek Baptist Church
X-ORIGINAL-URL:https://ccbcathens.com
X-WR-CALDESC:Events for Crooked Creek Baptist Church
REFRESH-INTERVAL;VALUE=DURATION:PT1H
X-Robots-Tag:noindex
X-PUBLISHED-TTL:PT1H
BEGIN:VTIMEZONE
TZID:America/New_York
BEGIN:DAYLIGHT
TZOFFSETFROM:-0500
TZOFFSETTO:-0400
TZNAME:EDT
DTSTART:20250309T070000
END:DAYLIGHT
BEGIN:STANDARD
TZOFFSETFROM:-0400
TZOFFSETTO:-0500
TZNAME:EST
DTSTART:20251102T060000
END:STANDARD
BEGIN:DAYLIGHT
TZOFFSETFROM:-0500
TZOFFSETTO:-0400
TZNAME:EDT
DTSTART:20260308T070000
END:DAYLIGHT
BEGIN:STANDARD
TZOFFSETFROM:-0400
TZOFFSETTO:-0500
TZNAME:EST
DTSTART:20261101T060000
END:STANDARD
BEGIN:DAYLIGHT
TZOFFSETFROM:-0500
TZOFFSETTO:-0400
TZNAME:EDT
DTSTART:20270314T070000
END:DAYLIGHT
BEGIN:STANDARD
TZOFFSETFROM:-0400
TZOFFSETTO:-0500
TZNAME:EST
DTSTART:20271107T060000
END:STANDARD
END:VTIMEZONE
BEGIN:VEVENT
DTSTART;TZID=America/New_York:20260306T190000
DTEND;TZID=America/New_York:20260306T210000
DTSTAMP:20260425T111913
CREATED:20260228T003332Z
LAST-MODIFIED:20260228T003332Z
UID:10693-1772823600-1772830800@ccbcathens.com
SUMMARY:Freedom That Lasts Open House
DESCRIPTION:Freedom That Lasts is a discipleship ministry to those who are enslaved in life-dominating sins or overcome by hurtful events of life.  We will be holding an open house on Friday March 6 so you can become familiar with the ministry\, how it works and who it’s for.  A meal will be provided for all who attend.  If you are planning to be there\, please complete the registration form below. \nPlease enable JavaScript in your browser to complete this form.Please enable JavaScript in your browser to complete this form.		\n			your childcare? group\n			\n		\n		Name *FirstLastHow many will be in your group or family?Do you need childcare?NoYesIf you need childcare\, how many children?Submit
URL:https://ccbcathens.com/event/freedom-that-lasts-open-house/
LOCATION:Crooked Creek Baptist Church\, 6202 Jefferson River Rd\, Athens\, GA\, 30607\, United States
CATEGORIES:Meeting
END:VEVENT
END:VCALENDAR