BEGIN:VCALENDAR
VERSION:2.0
PRODID:-//Crooked Creek Baptist Church - ECPv6.15.20//NONSGML v1.0//EN
CALSCALE:GREGORIAN
METHOD:PUBLISH
X-WR-CALNAME:Crooked Creek Baptist Church
X-ORIGINAL-URL:https://ccbcathens.com
X-WR-CALDESC:Events for Crooked Creek Baptist Church
REFRESH-INTERVAL;VALUE=DURATION:PT1H
X-Robots-Tag:noindex
X-PUBLISHED-TTL:PT1H
BEGIN:VTIMEZONE
TZID:America/New_York
BEGIN:DAYLIGHT
TZOFFSETFROM:-0500
TZOFFSETTO:-0400
TZNAME:EDT
DTSTART:20250309T070000
END:DAYLIGHT
BEGIN:STANDARD
TZOFFSETFROM:-0400
TZOFFSETTO:-0500
TZNAME:EST
DTSTART:20251102T060000
END:STANDARD
BEGIN:DAYLIGHT
TZOFFSETFROM:-0500
TZOFFSETTO:-0400
TZNAME:EDT
DTSTART:20260308T070000
END:DAYLIGHT
BEGIN:STANDARD
TZOFFSETFROM:-0400
TZOFFSETTO:-0500
TZNAME:EST
DTSTART:20261101T060000
END:STANDARD
BEGIN:DAYLIGHT
TZOFFSETFROM:-0500
TZOFFSETTO:-0400
TZNAME:EDT
DTSTART:20270314T070000
END:DAYLIGHT
BEGIN:STANDARD
TZOFFSETFROM:-0400
TZOFFSETTO:-0500
TZNAME:EST
DTSTART:20271107T060000
END:STANDARD
END:VTIMEZONE
BEGIN:VEVENT
DTSTART;TZID=America/New_York:20260214T180000
DTEND;TZID=America/New_York:20260214T180000
DTSTAMP:20260425T114708
CREATED:20260119T162448Z
LAST-MODIFIED:20260119T202916Z
UID:10631-1771092000-1771092000@ccbcathens.com
SUMMARY:Valentine Banquet
DESCRIPTION:We will be hosting a Valentine Banquet for married couples in the church fellowship hall on February 14\, 2026.  The meal will be catered and childcare will be provided.  The cost is $25 per couple.  Please complete the signup form below so we’ll know that you are coming! \nPlease enable JavaScript in your browser to complete this form.Please enable JavaScript in your browser to complete this form.Name *FirstLastSpouseYour Phone NumberAre you bringing other guests? If so\, how many?Do you need childcare? If so\, how many children?Submit
URL:https://ccbcathens.com/event/valentine-banquet/
LOCATION:Crooked Creek Baptist Church\, 6202 Jefferson River Rd\, Athens\, GA\, 30607\, United States
CATEGORIES:Fellowship
END:VEVENT
BEGIN:VEVENT
DTSTART;VALUE=DATE:20260201
DTEND;VALUE=DATE:20260204
DTSTAMP:20260425T114708
CREATED:20260119T165848Z
LAST-MODIFIED:20260119T170304Z
UID:10635-1769904000-1770163199@ccbcathens.com
SUMMARY:Revival With Scott Pauley
DESCRIPTION:Please join us for revival meetings with Scott Pauley.  Meeting times will be as follows: \n\nSunday morning at 10am (Sunday School hour)\nSunday morning at 11am\nSunday evening at 6pm\nMonday evening at 7pm\nTuesday evening at 7pm\n\n 
URL:https://ccbcathens.com/event/revival-with-scott-pauley/
LOCATION:Crooked Creek Baptist Church\, 6202 Jefferson River Rd\, Athens\, GA\, 30607\, United States
CATEGORIES:Meeting
END:VEVENT
END:VCALENDAR